BEGIN:VCALENDAR
VERSION:2.0
PRODID:-//kyohatsu//JP
CALSCALE:GREGORIAN
BEGIN:VEVENT
DTSTART;VALUE=DATE:20260609
SUMMARY:時先生は着替えたい （　4）
DESCRIPTION:高山 としのり 日本文芸社
UID:9784537174021@kyohatsu.lb-product.com
END:VEVENT
END:VCALENDAR
