BEGIN:VCALENDAR
VERSION:2.0
PRODID:-//kyohatsu//JP
CALSCALE:GREGORIAN
BEGIN:VEVENT
DTSTART;VALUE=DATE:20260701
SUMMARY:ドラマ「ゆかりくんはギャップがずるい」（Blu-ray　Disc）【Blu-ray】
DESCRIPTION:高尾颯斗 
UID:4580626900206@kyohatsu.lb-product.com
END:VEVENT
END:VCALENDAR
