BEGIN:VCALENDAR
VERSION:2.0
PRODID:-//kyohatsu//JP
CALSCALE:GREGORIAN
BEGIN:VEVENT
DTSTART;VALUE=DATE:20260710
SUMMARY:転生魔女の気ままなグルメ旅@COMIC第2巻
DESCRIPTION:高塔サチ TOブックス
UID:9784868540441@kyohatsu.lb-product.com
END:VEVENT
END:VCALENDAR
