BEGIN:VCALENDAR
VERSION:2.0
PRODID:-//kyohatsu//JP
CALSCALE:GREGORIAN
BEGIN:VEVENT
DTSTART;VALUE=DATE:20260525
SUMMARY:恋愛キャンセル界隈
DESCRIPTION:高城リョウ コアマガジン
UID:9784866539775@kyohatsu.lb-product.com
END:VEVENT
END:VCALENDAR
