BEGIN:VCALENDAR
VERSION:2.0
PRODID:-//kyohatsu//JP
CALSCALE:GREGORIAN
BEGIN:VEVENT
DTSTART;VALUE=DATE:20260521
SUMMARY:精神科医おどおど日記
DESCRIPTION:駒木 爽 三五館シンシャ
UID:9784866809526@kyohatsu.lb-product.com
END:VEVENT
END:VCALENDAR
