BEGIN:VCALENDAR
VERSION:2.0
PRODID:-//kyohatsu//JP
CALSCALE:GREGORIAN
BEGIN:VEVENT
DTSTART;VALUE=DATE:20260602
SUMMARY:海霧 -ジリー
DESCRIPTION:馳　星周 KADOKAWA
UID:9784041152454@kyohatsu.lb-product.com
END:VEVENT
END:VCALENDAR
