BEGIN:VCALENDAR
VERSION:2.0
PRODID:-//kyohatsu//JP
CALSCALE:GREGORIAN
BEGIN:VEVENT
DTSTART;VALUE=DATE:20260610
SUMMARY:フェロモティック・エネミー
DESCRIPTION:香澄タベル 海王社
UID:9784796418270@kyohatsu.lb-product.com
END:VEVENT
END:VCALENDAR
