BEGIN:VCALENDAR
VERSION:2.0
PRODID:-//kyohatsu//JP
CALSCALE:GREGORIAN
BEGIN:VEVENT
DTSTART;VALUE=DATE:20260610
SUMMARY:もんぐらかっつあんの歌
DESCRIPTION:飯野　和好 童心社
UID:9784494023561@kyohatsu.lb-product.com
END:VEVENT
END:VCALENDAR
