BEGIN:VCALENDAR
VERSION:2.0
PRODID:-//kyohatsu//JP
CALSCALE:GREGORIAN
BEGIN:VEVENT
DTSTART;VALUE=DATE:20260507
SUMMARY:どのみちぺっこり
DESCRIPTION:飯尾和樹（ずん） 朝日新聞出版
UID:9784022621290@kyohatsu.lb-product.com
END:VEVENT
END:VCALENDAR
