BEGIN:VCALENDAR
VERSION:2.0
PRODID:-//kyohatsu//JP
CALSCALE:GREGORIAN
BEGIN:VEVENT
DTSTART;VALUE=DATE:20260601
SUMMARY:転生したオバサンは、枯れヒロイン目指して仕事に生きます！3
DESCRIPTION:風間レイ TOブックス
UID:9784868540151@kyohatsu.lb-product.com
END:VEVENT
END:VCALENDAR
