BEGIN:VCALENDAR
VERSION:2.0
PRODID:-//kyohatsu//JP
CALSCALE:GREGORIAN
BEGIN:VEVENT
DTSTART;VALUE=DATE:20260610
SUMMARY:後ろ前の死人
DESCRIPTION:風野真知雄 光文社
UID:9784334110420@kyohatsu.lb-product.com
END:VEVENT
END:VCALENDAR
