BEGIN:VCALENDAR
VERSION:2.0
PRODID:-//kyohatsu//JP
CALSCALE:GREGORIAN
BEGIN:VEVENT
DTSTART;VALUE=DATE:20260520
SUMMARY:ハンドレッドノートースワロウテイルの事件簿2-
DESCRIPTION:風森 章羽 講談社
UID:9784065435366@kyohatsu.lb-product.com
END:VEVENT
END:VCALENDAR
