BEGIN:VCALENDAR
VERSION:2.0
PRODID:-//kyohatsu//JP
CALSCALE:GREGORIAN
BEGIN:VEVENT
DTSTART;VALUE=DATE:20260626
SUMMARY:六畳間のカミの国1
DESCRIPTION:類家　海 KADOKAWA
UID:9784049523201@kyohatsu.lb-product.com
END:VEVENT
END:VCALENDAR
