BEGIN:VCALENDAR
VERSION:2.0
PRODID:-//kyohatsu//JP
CALSCALE:GREGORIAN
BEGIN:VEVENT
DTSTART;VALUE=DATE:20260526
SUMMARY:六人部屋の十三年間
DESCRIPTION:頭木弘樹 晶文社
UID:9784794980540@kyohatsu.lb-product.com
END:VEVENT
END:VCALENDAR
