BEGIN:VCALENDAR
VERSION:2.0
PRODID:-//kyohatsu//JP
CALSCALE:GREGORIAN
BEGIN:VEVENT
DTSTART;VALUE=DATE:20260722
SUMMARY:BLAZE【Blu-ray付生産限定盤】
DESCRIPTION:青木陽菜 (株)ブシロードミュージック
UID:4589773690251@kyohatsu.lb-product.com
END:VEVENT
BEGIN:VEVENT
DTSTART;VALUE=DATE:20260722
SUMMARY:【楽天ブックス限定先着特典】BLAZE【通常盤Btype】(L判ブロマイド(複製サイン+コメント付き))
DESCRIPTION:青木陽菜 (株)ブシロードミュージック
UID:4589773690275@kyohatsu.lb-product.com
END:VEVENT
BEGIN:VEVENT
DTSTART;VALUE=DATE:20260722
SUMMARY:【楽天ブックス限定先着特典】BLAZE【Blu-ray付生産限定盤】(缶バッジ(56mm)+L判ブロマイド(複製サイン+コメント付き))
DESCRIPTION:青木陽菜 (株)ブシロードミュージック
UID:2100014947990@kyohatsu.lb-product.com
END:VEVENT
BEGIN:VEVENT
DTSTART;VALUE=DATE:20260722
SUMMARY:【楽天ブックス限定先着特典】BLAZE【通常盤Atype】(L判ブロマイド(複製サイン+コメント付き))
DESCRIPTION:青木陽菜 (株)ブシロードミュージック
UID:4589773690268@kyohatsu.lb-product.com
END:VEVENT
END:VCALENDAR
