BEGIN:VCALENDAR
VERSION:2.0
PRODID:-//kyohatsu//JP
CALSCALE:GREGORIAN
BEGIN:VEVENT
DTSTART;VALUE=DATE:20260624
SUMMARY:十三ヶ月
DESCRIPTION:青山新 (株)テイチクエンタテインメント
UID:4988004185229@kyohatsu.lb-product.com
END:VEVENT
BEGIN:VEVENT
DTSTART;VALUE=DATE:20260624
SUMMARY:十三ヶ月
DESCRIPTION:青山新 (株)テイチクエンタテインメント
UID:4988004185243@kyohatsu.lb-product.com
END:VEVENT
BEGIN:VEVENT
DTSTART;VALUE=DATE:20260624
SUMMARY:十三ヶ月
DESCRIPTION:青山新 (株)テイチクエンタテインメント
UID:4988004185236@kyohatsu.lb-product.com
END:VEVENT
END:VCALENDAR
