BEGIN:VCALENDAR
VERSION:2.0
PRODID:-//kyohatsu//JP
CALSCALE:GREGORIAN
BEGIN:VEVENT
DTSTART;VALUE=DATE:20260610
SUMMARY:蝶墜ちてーー評伝 富澤赤黄男
DESCRIPTION:青山 淳平 飯塚書店
UID:9784752220855@kyohatsu.lb-product.com
END:VEVENT
END:VCALENDAR
