BEGIN:VCALENDAR
VERSION:2.0
PRODID:-//kyohatsu//JP
CALSCALE:GREGORIAN
BEGIN:VEVENT
DTSTART;VALUE=DATE:20260701
SUMMARY:煙霧公爵と氷の花嫁 第2巻
DESCRIPTION:青代理鶴 TOブックス
UID:9784868540373@kyohatsu.lb-product.com
END:VEVENT
END:VCALENDAR
