BEGIN:VCALENDAR
VERSION:2.0
PRODID:-//kyohatsu//JP
CALSCALE:GREGORIAN
BEGIN:VEVENT
DTSTART;VALUE=DATE:20260512
SUMMARY:見習い同心と冥府の使者　弐
DESCRIPTION:霜月りつ 光文社
UID:9784334109691@kyohatsu.lb-product.com
END:VEVENT
BEGIN:VEVENT
DTSTART;VALUE=DATE:20260526
SUMMARY:となりの閻魔1　あらたな出会い
DESCRIPTION:霜月りつ 二見書房
UID:9784576260310@kyohatsu.lb-product.com
END:VEVENT
END:VCALENDAR
