BEGIN:VCALENDAR
VERSION:2.0
PRODID:-//kyohatsu//JP
CALSCALE:GREGORIAN
BEGIN:VEVENT
DTSTART;VALUE=DATE:20260525
SUMMARY:あそんじゃいけないトイボックス 1
DESCRIPTION:雪井　理卯 KADOKAWA
UID:9784048119368@kyohatsu.lb-product.com
END:VEVENT
END:VCALENDAR
