BEGIN:VCALENDAR
VERSION:2.0
PRODID:-//kyohatsu//JP
CALSCALE:GREGORIAN
BEGIN:VEVENT
DTSTART;VALUE=DATE:20260629
SUMMARY:愛の流星カウーパ 4
DESCRIPTION:雨蘭 白泉社
UID:9784592166986@kyohatsu.lb-product.com
END:VEVENT
END:VCALENDAR
