BEGIN:VCALENDAR
VERSION:2.0
PRODID:-//kyohatsu//JP
CALSCALE:GREGORIAN
BEGIN:VEVENT
DTSTART;VALUE=DATE:20260605
SUMMARY:元アイドルのハロー！ワーク　3
DESCRIPTION:雨水汐 芳文社
UID:9784832210318@kyohatsu.lb-product.com
END:VEVENT
END:VCALENDAR
