BEGIN:VCALENDAR
VERSION:2.0
PRODID:-//kyohatsu//JP
CALSCALE:GREGORIAN
BEGIN:VEVENT
DTSTART;VALUE=DATE:20260527
SUMMARY:ノンシナリオ・エチュード/雨宮天作品集2 -Theory-【初回生産限定盤 CD＋Blu-ray】
DESCRIPTION:雨宮天 (株)ミュージックレイン
UID:4571614182186@kyohatsu.lb-product.com
END:VEVENT
BEGIN:VEVENT
DTSTART;VALUE=DATE:20260527
SUMMARY:【楽天ブックス限定先着特典】ノンシナリオ・エチュード/雨宮天作品集2 -Theory-【初回生産限定盤 CD＋Blu-ray】(オリジナルブロマイド)
DESCRIPTION:雨宮天 (株)ミュージックレイン
UID:2100014934792@kyohatsu.lb-product.com
END:VEVENT
BEGIN:VEVENT
DTSTART;VALUE=DATE:20260527
SUMMARY:【楽天ブックス限定先着特典】ノンシナリオ・エチュード/雨宮天作品集2 -Theory-【期間生産限定盤】(オリジナルブロマイド)
DESCRIPTION:雨宮天 (株)ミュージックレイン
UID:4571614182193@kyohatsu.lb-product.com
END:VEVENT
END:VCALENDAR
