BEGIN:VCALENDAR
VERSION:2.0
PRODID:-//kyohatsu//JP
CALSCALE:GREGORIAN
BEGIN:VEVENT
DTSTART;VALUE=DATE:20260604
SUMMARY:回撃のキナト 1
DESCRIPTION:雨宮 ケント 集英社
UID:9784088850894@kyohatsu.lb-product.com
END:VEVENT
END:VCALENDAR
