BEGIN:VCALENDAR
VERSION:2.0
PRODID:-//kyohatsu//JP
CALSCALE:GREGORIAN
BEGIN:VEVENT
DTSTART;VALUE=DATE:20260526
SUMMARY:青春の種
DESCRIPTION:限りなく白く (株)TSUIMA(限りなく白く)
UID:4948722605799@kyohatsu.lb-product.com
END:VEVENT
END:VCALENDAR
