BEGIN:VCALENDAR
VERSION:2.0
PRODID:-//kyohatsu//JP
CALSCALE:GREGORIAN
BEGIN:VEVENT
DTSTART;VALUE=DATE:20260520
SUMMARY:年とる力
DESCRIPTION:阿川 佐和子 文藝春秋
UID:9784166615209@kyohatsu.lb-product.com
END:VEVENT
END:VCALENDAR
