BEGIN:VCALENDAR
VERSION:2.0
PRODID:-//kyohatsu//JP
CALSCALE:GREGORIAN
BEGIN:VEVENT
DTSTART;VALUE=DATE:20260612
SUMMARY:転生勇者は女子高生！？〜魔王の溺愛に困ってます〜（4）
DESCRIPTION:阿仁谷 ユイジ 講談社
UID:9784065438510@kyohatsu.lb-product.com
END:VEVENT
END:VCALENDAR
