BEGIN:VCALENDAR
VERSION:2.0
PRODID:-//kyohatsu//JP
CALSCALE:GREGORIAN
BEGIN:VEVENT
DTSTART;VALUE=DATE:20260512
SUMMARY:バスに乗って9キロへ
DESCRIPTION:関口純 風詠社
UID:9784434378799@kyohatsu.lb-product.com
END:VEVENT
END:VCALENDAR
