BEGIN:VCALENDAR
VERSION:2.0
PRODID:-//kyohatsu//JP
CALSCALE:GREGORIAN
BEGIN:VEVENT
DTSTART;VALUE=DATE:20260619
SUMMARY:聖なる乙女と秘めごとを（11）
DESCRIPTION:閃 凡人 講談社
UID:9784065437520@kyohatsu.lb-product.com
END:VEVENT
END:VCALENDAR
