BEGIN:VCALENDAR
VERSION:2.0
PRODID:-//kyohatsu//JP
CALSCALE:GREGORIAN
BEGIN:VEVENT
DTSTART;VALUE=DATE:20260528
SUMMARY:夕子ちゃんの近道
DESCRIPTION:長嶋 有 東京創元社
UID:9784488803209@kyohatsu.lb-product.com
END:VEVENT
BEGIN:VEVENT
DTSTART;VALUE=DATE:20260528
SUMMARY:七、八月のストローク
DESCRIPTION:長嶋 有 講談社
UID:9784065435021@kyohatsu.lb-product.com
END:VEVENT
END:VCALENDAR
