BEGIN:VCALENDAR
VERSION:2.0
PRODID:-//kyohatsu//JP
CALSCALE:GREGORIAN
BEGIN:VEVENT
DTSTART;VALUE=DATE:20260701
SUMMARY:増補改訂版　薬のやめどき
DESCRIPTION:長尾　和宏 ブックマン社
UID:9784893089960@kyohatsu.lb-product.com
END:VEVENT
END:VCALENDAR
