BEGIN:VCALENDAR
VERSION:2.0
PRODID:-//kyohatsu//JP
CALSCALE:GREGORIAN
BEGIN:VEVENT
DTSTART;VALUE=DATE:20260428
SUMMARY:禍系図
DESCRIPTION:鋏池　穏美 KADOKAWA
UID:9784047387164@kyohatsu.lb-product.com
END:VEVENT
END:VCALENDAR
