BEGIN:VCALENDAR
VERSION:2.0
PRODID:-//kyohatsu//JP
CALSCALE:GREGORIAN
BEGIN:VEVENT
DTSTART;VALUE=DATE:20260525
SUMMARY:毎日を機嫌よく生きるヒント
DESCRIPTION:鈴木秀子 ビジネス社
UID:9784828428260@kyohatsu.lb-product.com
END:VEVENT
END:VCALENDAR
