BEGIN:VCALENDAR
VERSION:2.0
PRODID:-//kyohatsu//JP
CALSCALE:GREGORIAN
BEGIN:VEVENT
DTSTART;VALUE=DATE:20260701
SUMMARY:GOLDEN☆BEST 鈴木祥子 〜The Ballad of Syoko Suzuki
DESCRIPTION:鈴木祥子 (株)ソニー・ミュージックダイレクト
UID:4547366820140@kyohatsu.lb-product.com
END:VEVENT
END:VCALENDAR
