BEGIN:VCALENDAR
VERSION:2.0
PRODID:-//kyohatsu//JP
CALSCALE:GREGORIAN
BEGIN:VEVENT
DTSTART;VALUE=DATE:20260520
SUMMARY:文学フリマ物語
DESCRIPTION:鈴木沙巴良 ウェッジ
UID:9784863103047@kyohatsu.lb-product.com
END:VEVENT
END:VCALENDAR
