BEGIN:VCALENDAR
VERSION:2.0
PRODID:-//kyohatsu//JP
CALSCALE:GREGORIAN
BEGIN:VEVENT
DTSTART;VALUE=DATE:20260617
SUMMARY:鈴木愛理 LIVE 2025 〜Oops!〜【Blu-ray】
DESCRIPTION:鈴木愛理 (株)アップフロントワークス
UID:4942463543938@kyohatsu.lb-product.com
END:VEVENT
BEGIN:VEVENT
DTSTART;VALUE=DATE:20260617
SUMMARY:【楽天ブックス限定先着特典】鈴木愛理 LIVE 2025 〜Oops!〜【Blu-ray】(アクリルスタンドキーホルダー)
DESCRIPTION:鈴木愛理 (株)アップフロントワークス
UID:2100014903446@kyohatsu.lb-product.com
END:VEVENT
END:VCALENDAR
