BEGIN:VCALENDAR
VERSION:2.0
PRODID:-//kyohatsu//JP
CALSCALE:GREGORIAN
BEGIN:VEVENT
DTSTART;VALUE=DATE:20260529
SUMMARY:やさしすぎるあなたへ　「いい人」を卒業するための物語
DESCRIPTION:鈴木健 日本橋出版
UID:9784434375866@kyohatsu.lb-product.com
END:VEVENT
END:VCALENDAR
