BEGIN:VCALENDAR
VERSION:2.0
PRODID:-//kyohatsu//JP
CALSCALE:GREGORIAN
BEGIN:VEVENT
DTSTART;VALUE=DATE:20260525
SUMMARY:日本橋の強談 大江戸なりあがり伝（2）
DESCRIPTION:鈴木　英治 KADOKAWA
UID:9784041171455@kyohatsu.lb-product.com
END:VEVENT
END:VCALENDAR
