BEGIN:VCALENDAR
VERSION:2.0
PRODID:-//kyohatsu//JP
CALSCALE:GREGORIAN
BEGIN:VEVENT
DTSTART;VALUE=DATE:20260623
SUMMARY:おしえて！　ギャル子ちゃん　6
DESCRIPTION:鈴木　健也 KADOKAWA
UID:9784046601339@kyohatsu.lb-product.com
END:VEVENT
END:VCALENDAR
