BEGIN:VCALENDAR
VERSION:2.0
PRODID:-//kyohatsu//JP
CALSCALE:GREGORIAN
BEGIN:VEVENT
DTSTART;VALUE=DATE:20260518
SUMMARY:明治の出版革命 書店界の風雲児「兎屋」の興亡
DESCRIPTION:鈴木　俊幸 KADOKAWA
UID:9784044900076@kyohatsu.lb-product.com
END:VEVENT
END:VCALENDAR
