BEGIN:VCALENDAR
VERSION:2.0
PRODID:-//kyohatsu//JP
CALSCALE:GREGORIAN
BEGIN:VEVENT
DTSTART;VALUE=DATE:20260527
SUMMARY:柴崎友香の世界
DESCRIPTION:鈴木 智之 青弓社
UID:9784787292858@kyohatsu.lb-product.com
END:VEVENT
END:VCALENDAR
