BEGIN:VCALENDAR
VERSION:2.0
PRODID:-//kyohatsu//JP
CALSCALE:GREGORIAN
BEGIN:VEVENT
DTSTART;VALUE=DATE:20260529
SUMMARY:アンビバレント　山上徹也が私だけに明かした謎の核心
DESCRIPTION:鈴木 エイト 講談社
UID:9784065441176@kyohatsu.lb-product.com
END:VEVENT
END:VCALENDAR
