BEGIN:VCALENDAR
VERSION:2.0
PRODID:-//kyohatsu//JP
CALSCALE:GREGORIAN
BEGIN:VEVENT
DTSTART;VALUE=DATE:20260527
SUMMARY:江崎クリーニング店の娘
DESCRIPTION:鈴木 るりか 幻冬舎
UID:9784344045828@kyohatsu.lb-product.com
END:VEVENT
END:VCALENDAR
