BEGIN:VCALENDAR
VERSION:2.0
PRODID:-//kyohatsu//JP
CALSCALE:GREGORIAN
BEGIN:VEVENT
DTSTART;VALUE=DATE:20260525
SUMMARY:ご隠居奉行世直し帖（1）
DESCRIPTION:鈴峯　紅也 KADOKAWA
UID:9784041168639@kyohatsu.lb-product.com
END:VEVENT
END:VCALENDAR
