BEGIN:VCALENDAR
VERSION:2.0
PRODID:-//kyohatsu//JP
CALSCALE:GREGORIAN
BEGIN:VEVENT
DTSTART;VALUE=DATE:20260408
SUMMARY:ものがたり洋菓子店　月と私　ろくばんめの幸福
DESCRIPTION:野村　美月 ポプラ社
UID:9784591189573@kyohatsu.lb-product.com
END:VEVENT
BEGIN:VEVENT
DTSTART;VALUE=DATE:20260515
SUMMARY:紅茶とマドレーヌ　キャロットケーキの愛情
DESCRIPTION:野村 美月 角川春樹事務所
UID:9784758448086@kyohatsu.lb-product.com
END:VEVENT
END:VCALENDAR
