BEGIN:VCALENDAR
VERSION:2.0
PRODID:-//kyohatsu//JP
CALSCALE:GREGORIAN
BEGIN:VEVENT
DTSTART;VALUE=DATE:20260617
SUMMARY:ちょっとだけエスパー
DESCRIPTION:野木 亜紀子 河出書房新社
UID:9784309032511@kyohatsu.lb-product.com
END:VEVENT
END:VCALENDAR
