BEGIN:VCALENDAR
VERSION:2.0
PRODID:-//kyohatsu//JP
CALSCALE:GREGORIAN
BEGIN:VEVENT
DTSTART;VALUE=DATE:20260522
SUMMARY:カモナマイハウス
DESCRIPTION:重松清 中央公論新社
UID:9784122077928@kyohatsu.lb-product.com
END:VEVENT
END:VCALENDAR
