BEGIN:VCALENDAR
VERSION:2.0
PRODID:-//kyohatsu//JP
CALSCALE:GREGORIAN
BEGIN:VEVENT
DTSTART;VALUE=DATE:20260603
SUMMARY:獄に暮らせば
DESCRIPTION:重信 房子 作品社
UID:9784867931486@kyohatsu.lb-product.com
END:VEVENT
END:VCALENDAR
