BEGIN:VCALENDAR
VERSION:2.0
PRODID:-//kyohatsu//JP
CALSCALE:GREGORIAN
BEGIN:VEVENT
DTSTART;VALUE=DATE:20260515
SUMMARY:マリリン・モンロー 99の言葉
DESCRIPTION:酒田真実 扶桑社
UID:9784594102692@kyohatsu.lb-product.com
END:VEVENT
END:VCALENDAR
