BEGIN:VCALENDAR
VERSION:2.0
PRODID:-//kyohatsu//JP
CALSCALE:GREGORIAN
BEGIN:VEVENT
DTSTART;VALUE=DATE:20260501
SUMMARY:ケンちゃんの涙
DESCRIPTION:酒井マリン 文芸社
UID:9784286275659@kyohatsu.lb-product.com
END:VEVENT
END:VCALENDAR
